BEGIN:VCALENDAR
VERSION:2.0
PRODID:-//La Red - ECPv6.15.20//NONSGML v1.0//EN
CALSCALE:GREGORIAN
METHOD:PUBLISH
X-WR-CALNAME:La Red
X-ORIGINAL-URL:https://www.lared.nl
X-WR-CALDESC:Evenementen voor La Red
REFRESH-INTERVAL;VALUE=DURATION:PT1H
X-Robots-Tag:noindex
X-PUBLISHED-TTL:PT1H
BEGIN:VTIMEZONE
TZID:Europe/Helsinki
BEGIN:DAYLIGHT
TZOFFSETFROM:+0200
TZOFFSETTO:+0300
TZNAME:EEST
DTSTART:20220327T010000
END:DAYLIGHT
BEGIN:STANDARD
TZOFFSETFROM:+0300
TZOFFSETTO:+0200
TZNAME:EET
DTSTART:20221030T010000
END:STANDARD
BEGIN:DAYLIGHT
TZOFFSETFROM:+0200
TZOFFSETTO:+0300
TZNAME:EEST
DTSTART:20230326T010000
END:DAYLIGHT
BEGIN:STANDARD
TZOFFSETFROM:+0300
TZOFFSETTO:+0200
TZNAME:EET
DTSTART:20231029T010000
END:STANDARD
BEGIN:DAYLIGHT
TZOFFSETFROM:+0200
TZOFFSETTO:+0300
TZNAME:EEST
DTSTART:20240331T010000
END:DAYLIGHT
BEGIN:STANDARD
TZOFFSETFROM:+0300
TZOFFSETTO:+0200
TZNAME:EET
DTSTART:20241027T010000
END:STANDARD
END:VTIMEZONE
BEGIN:VEVENT
DTSTART;VALUE=DATE:20231116
DTEND;VALUE=DATE:20231117
DTSTAMP:20260420T172743
CREATED:20231030T144715Z
LAST-MODIFIED:20231030T144715Z
UID:16418-1700092800-1700179199@www.lared.nl
SUMMARY:Social Enterprise Day
DESCRIPTION:Ondernemen en een positieve impact op de wereld hebben: het kan écht samengaan. Vandaag is het 𝗦𝗼𝗰𝗶𝗮𝗹 𝗘𝗻𝘁𝗲𝗿𝗽𝗿𝗶𝘀𝗲 𝗗𝗮𝘆\, een dag gewijd aan bedrijven die niet alleen winst maken\, maar ook zorgen voor positieve veranderingen om zich heen. \n\n\n \n\n\nDe shortlist van 10 genomineerden voor de ‘Give and Take Trophy’ geven hierbij het goede voorbeeld door binnen hun organisaties te innoveren\, werkgelegenheid te creëren en bij te dragen aan het oplossen van maatschappelijke uitdagingen. Ze inspireren ons om bewuste keuzes te maken\, zowel zakelijk als privé. \n\n\n \n\n\nBij La Red zijn we blij om te zien dat steeds meer ondernemers en organisaties maatschappelijk bewuste keuzes maken!\n\n\nLaat je inspireren door de winnaars en overige shortlist kandidaten voor de ‘Give and Take Trophy’\, zij hebben met hun sociaal kapitaal een positieve impact op anderen.
URL:https://www.lared.nl/event/social-enterprise-day/
END:VEVENT
BEGIN:VEVENT
DTSTART;TZID=Europe/Helsinki:20230914T160000
DTEND;TZID=Europe/Helsinki:20230914T190000
DTSTAMP:20260420T172743
CREATED:20230802T133906Z
LAST-MODIFIED:20230802T133906Z
UID:15985-1694707200-1694718000@www.lared.nl
SUMMARY:Uitreiking `Give and Take Trophy`
DESCRIPTION:La Red bestaat 20 jaar en reken maar dat we dát gaan vieren! Onder andere door het uitreiken van de `Give and Take Trophy`. Voor de uitreiking van deze unieke trofee gaan we op zoek naar iemand met een waardevol sociaal kapitaal. Met een netwerk van relaties die bereid zijn te helpen en die ingezet kunnen worden om anderen te ondersteunen. \nUit de aanmelding is door de vakjury een shortlist gevormd van 10 inspirerende mensen die een positieve impact hebben op anderen en bijdragen aan de groei en ontwikkeling van hun community en gemeenschap als geheel. De winnaar neemt de Trophy mee naar huis\, verschijnt op de cover van Delft.business en wint een overnachting met ontbijt voor 2 personen in het WestCord Hotel Delft. \nOp 14 september is er de feestelijke uitreiking van de prijs\, de publieksstemming én vieren we natuurlijk het 20-jarig bestaan van La Red! Je kunt je hier aanmelden om aanwezig te zijn.  \nDeze verkiezing is bedoeld om de bewustwording over het belang van sociaal kapitaal te vergroten en diegenen die beschikken over waardevol sociaal kapitaal in het zonnetje te zetten vanuit de pay-it-forward gedachte.
URL:https://www.lared.nl/event/uitreiking-give-and-take-trophy/
LOCATION:Delft – WestCord Hotel Delft\, Olof Palmestraat 2\, Delft\, 2616 LM\, Nederland
ORGANIZER;CN="La Red":MAILTO:larednetwerk@lared.nl
END:VEVENT
BEGIN:VEVENT
DTSTART;VALUE=DATE:20230315
DTEND;VALUE=DATE:20230316
DTSTAMP:20260420T172743
CREATED:20230214T123539Z
LAST-MODIFIED:20230308T181501Z
UID:15236-1678838400-1678924799@www.lared.nl
SUMMARY:La Red bestaat 20 jaar!
DESCRIPTION:15 maart is een bijzondere dag: La Red bestaat 20 jaar! \nIn deze twintig jaar hebben we 13.461 vrienden en kennissen gemaakt\, 2373 opdrachten uitgevoerd en zijn er dagelijks 6 matches. We hebben een heel aantal netwerkorganisaties mogen ontwikkelen en mensen en organisaties geleerd hoe ze hun sociaal kapitaal effectief kunnen inzetten. En het leukste is; dat doen we nog iedere dag met veel overtuiging en plezier. \nIn de afgelopen jaren hebben we het omvangrijke netwerk van La Red uitgebreid én onszelf ontwikkeld tot een dynamisch team en een organisatie die continue in beweging is. \nNu mogen we vieren wat we deden\, wat we doen en ons verheugen op alles wat er komt!
URL:https://www.lared.nl/event/la-red-bestaat-20-jaar/
CATEGORIES:Bijeenkomsten
ORGANIZER;CN="La Red":MAILTO:larednetwerk@lared.nl
END:VEVENT
END:VCALENDAR