BEGIN:VCALENDAR
VERSION:2.0
PRODID:-//La Red - ECPv6.15.20//NONSGML v1.0//EN
CALSCALE:GREGORIAN
METHOD:PUBLISH
X-WR-CALNAME:La Red
X-ORIGINAL-URL:https://www.lared.nl
X-WR-CALDESC:Evenementen voor La Red
REFRESH-INTERVAL;VALUE=DURATION:PT1H
X-Robots-Tag:noindex
X-PUBLISHED-TTL:PT1H
BEGIN:VTIMEZONE
TZID:Europe/Helsinki
BEGIN:DAYLIGHT
TZOFFSETFROM:+0200
TZOFFSETTO:+0300
TZNAME:EEST
DTSTART:20220327T010000
END:DAYLIGHT
BEGIN:STANDARD
TZOFFSETFROM:+0300
TZOFFSETTO:+0200
TZNAME:EET
DTSTART:20221030T010000
END:STANDARD
BEGIN:DAYLIGHT
TZOFFSETFROM:+0200
TZOFFSETTO:+0300
TZNAME:EEST
DTSTART:20230326T010000
END:DAYLIGHT
BEGIN:STANDARD
TZOFFSETFROM:+0300
TZOFFSETTO:+0200
TZNAME:EET
DTSTART:20231029T010000
END:STANDARD
BEGIN:DAYLIGHT
TZOFFSETFROM:+0200
TZOFFSETTO:+0300
TZNAME:EEST
DTSTART:20240331T010000
END:DAYLIGHT
BEGIN:STANDARD
TZOFFSETFROM:+0300
TZOFFSETTO:+0200
TZNAME:EET
DTSTART:20241027T010000
END:STANDARD
END:VTIMEZONE
BEGIN:VEVENT
DTSTART;VALUE=DATE:20230204
DTEND;VALUE=DATE:20230205
DTSTAMP:20260420T153707
CREATED:20230103T162733Z
LAST-MODIFIED:20230103T162733Z
UID:15157-1675468800-1675555199@www.lared.nl
SUMMARY:Internationale dag van menselijke broederschap
DESCRIPTION:Vandaag is het internationale dag van menselijke broederschap. Op deze dag staan we wereldwijd stil bij het streven naar wereldvrede en samenwerking. Een dag waarop respect\, begrip en solidariteit centraal staan. \nLaten we beginnen in onze eigen leefwereld en iedereen in ons #netwerk het beste gunnen en waar nodig de helpende hand toe te steken. Want je weet het; ook goed gedrag\, normen en waarden\, kennis\, zijn besmettelijk!
URL:https://www.lared.nl/event/internationale-dag-van-menselijke-broederschap/
END:VEVENT
END:VCALENDAR