BEGIN:VCALENDAR
VERSION:2.0
PRODID:-//La Red - ECPv6.15.20//NONSGML v1.0//EN
CALSCALE:GREGORIAN
METHOD:PUBLISH
X-ORIGINAL-URL:https://www.lared.nl
X-WR-CALDESC:Evenementen voor La Red
REFRESH-INTERVAL;VALUE=DURATION:PT1H
X-Robots-Tag:noindex
X-PUBLISHED-TTL:PT1H
BEGIN:VTIMEZONE
TZID:Europe/Helsinki
BEGIN:DAYLIGHT
TZOFFSETFROM:+0200
TZOFFSETTO:+0300
TZNAME:EEST
DTSTART:20220327T010000
END:DAYLIGHT
BEGIN:STANDARD
TZOFFSETFROM:+0300
TZOFFSETTO:+0200
TZNAME:EET
DTSTART:20221030T010000
END:STANDARD
BEGIN:DAYLIGHT
TZOFFSETFROM:+0200
TZOFFSETTO:+0300
TZNAME:EEST
DTSTART:20230326T010000
END:DAYLIGHT
BEGIN:STANDARD
TZOFFSETFROM:+0300
TZOFFSETTO:+0200
TZNAME:EET
DTSTART:20231029T010000
END:STANDARD
BEGIN:DAYLIGHT
TZOFFSETFROM:+0200
TZOFFSETTO:+0300
TZNAME:EEST
DTSTART:20240331T010000
END:DAYLIGHT
BEGIN:STANDARD
TZOFFSETFROM:+0300
TZOFFSETTO:+0200
TZNAME:EET
DTSTART:20241027T010000
END:STANDARD
END:VTIMEZONE
BEGIN:VEVENT
DTSTART;VALUE=DATE:20230923
DTEND;VALUE=DATE:20230924
DTSTAMP:20260420T122114
CREATED:20230919T190729Z
LAST-MODIFIED:20230919T190729Z
UID:16170-1695427200-1695513599@www.lared.nl
SUMMARY:Burendag
DESCRIPTION:Beter een goede buur …. Nou ja\, je kunt `m wel invullen. Toch kan goed contact met je buren écht heel waardevol zijn\, daarom is het vandaag Burendag. \nBuurten worden socialer en leuker als buren elkaar ontmoeten\, helpen en zich samen inzetten voor de buurt; dat is de gedachte achter Burendag. Door een activiteit te organiseren kun je op een laagdrempelige manier in contact komen met de mensen die vlak bij jou wonen. En na zo`n eerste ontmoeting is het gemakkelijker om elkaar op te zoeken of om hulp te vragen. \nLijkt het je leuk om een activiteit te plannen voor jou buurt? Dan kun je jouw buurt aanmelden en een Burendagpakket ontvangen. Ben je er dit jaar te laat bij\, noteer dan alvast Burendag 2024: die staat gepland op 28 september. Aanmelden en ideeën opdoen kan hier. \n#burendag #buren #vriendschap #verbinding
URL:https://www.lared.nl/event/burendag/
END:VEVENT
END:VCALENDAR