BEGIN:VCALENDAR
VERSION:2.0
PRODID:-//La Red - ECPv6.15.20//NONSGML v1.0//EN
CALSCALE:GREGORIAN
METHOD:PUBLISH
X-WR-CALNAME:La Red
X-ORIGINAL-URL:https://www.lared.nl
X-WR-CALDESC:Evenementen voor La Red
REFRESH-INTERVAL;VALUE=DURATION:PT1H
X-Robots-Tag:noindex
X-PUBLISHED-TTL:PT1H
BEGIN:VTIMEZONE
TZID:Europe/Helsinki
BEGIN:DAYLIGHT
TZOFFSETFROM:+0200
TZOFFSETTO:+0300
TZNAME:EEST
DTSTART:20230326T010000
END:DAYLIGHT
BEGIN:STANDARD
TZOFFSETFROM:+0300
TZOFFSETTO:+0200
TZNAME:EET
DTSTART:20231029T010000
END:STANDARD
BEGIN:DAYLIGHT
TZOFFSETFROM:+0200
TZOFFSETTO:+0300
TZNAME:EEST
DTSTART:20240331T010000
END:DAYLIGHT
BEGIN:STANDARD
TZOFFSETFROM:+0300
TZOFFSETTO:+0200
TZNAME:EET
DTSTART:20241027T010000
END:STANDARD
BEGIN:DAYLIGHT
TZOFFSETFROM:+0200
TZOFFSETTO:+0300
TZNAME:EEST
DTSTART:20250330T010000
END:DAYLIGHT
BEGIN:STANDARD
TZOFFSETFROM:+0300
TZOFFSETTO:+0200
TZNAME:EET
DTSTART:20251026T010000
END:STANDARD
END:VTIMEZONE
BEGIN:VEVENT
DTSTART;VALUE=DATE:20240430
DTEND;VALUE=DATE:20240501
DTSTAMP:20260421T163714
CREATED:20240404T145514Z
LAST-MODIFIED:20240404T145557Z
UID:16752-1714435200-1714521599@www.lared.nl
SUMMARY:Dag van de eerlijkheid
DESCRIPTION:Eerlijkheid duurt het langst \nIs het echt zo dat eerlijkheid altijd het langst duurt? Ook als je collega een storend stukje peterselie tussen de tanden heeft of een vriendin een onflatterende blouse aanheeft\, geef je dit dan eerlijk aan? \nVandaag is het International Honesty Day\, oftewel de dag van de eerlijkheid. Ooit in de Verenigde Staten in het leven geroepen om ongecompliceerde communicatie in politiek en relaties aan te moedigen. Bij La Red gaan we er vanuit dat eerlijkheid altijd het beste is\, misschien met een incidentele uitzondering voor een leugentje om bestwil. \nWant ben jij eerlijk naar anderen toe\, dan krijg je dat ook terug. Zo blijf je jezelf bewust van jouw waarde en betekenis en garandeer je levenslange vriendschappen\, plezier en inspiratie!
URL:https://www.lared.nl/event/dag-van-de-eerlijkheid-2/
END:VEVENT
END:VCALENDAR