BEGIN:VCALENDAR
VERSION:2.0
PRODID:-//La Red - ECPv6.15.20//NONSGML v1.0//EN
CALSCALE:GREGORIAN
METHOD:PUBLISH
X-WR-CALNAME:La Red
X-ORIGINAL-URL:https://www.lared.nl
X-WR-CALDESC:Evenementen voor La Red
REFRESH-INTERVAL;VALUE=DURATION:PT1H
X-Robots-Tag:noindex
X-PUBLISHED-TTL:PT1H
BEGIN:VTIMEZONE
TZID:Europe/Helsinki
BEGIN:DAYLIGHT
TZOFFSETFROM:+0200
TZOFFSETTO:+0300
TZNAME:EEST
DTSTART:20220327T010000
END:DAYLIGHT
BEGIN:STANDARD
TZOFFSETFROM:+0300
TZOFFSETTO:+0200
TZNAME:EET
DTSTART:20221030T010000
END:STANDARD
BEGIN:DAYLIGHT
TZOFFSETFROM:+0200
TZOFFSETTO:+0300
TZNAME:EEST
DTSTART:20230326T010000
END:DAYLIGHT
BEGIN:STANDARD
TZOFFSETFROM:+0300
TZOFFSETTO:+0200
TZNAME:EET
DTSTART:20231029T010000
END:STANDARD
BEGIN:DAYLIGHT
TZOFFSETFROM:+0200
TZOFFSETTO:+0300
TZNAME:EEST
DTSTART:20240331T010000
END:DAYLIGHT
BEGIN:STANDARD
TZOFFSETFROM:+0300
TZOFFSETTO:+0200
TZNAME:EET
DTSTART:20241027T010000
END:STANDARD
END:VTIMEZONE
BEGIN:VEVENT
DTSTART;VALUE=DATE:20231106
DTEND;VALUE=DATE:20231107
DTSTAMP:20260421T180711
CREATED:20231030T140852Z
LAST-MODIFIED:20231030T140852Z
UID:16401-1699228800-1699315199@www.lared.nl
SUMMARY:Job Action Day
DESCRIPTION:Hoe zou jouw leven eruitzien zonder je werk? \n\n\n \n\n\nDat is de vraag van vandaag\, want het is Job Action Day. Een dag waarop we vieren dat we waardevol werk hebben en de impact van werk op ons dagelijks leven erkennen.\n\n\n \n\n\nWerk is niet alleen een bron van inkomsten; het geeft ons een doel\, voldoening en het gevoel ergens onderdeel van te zijn. Het opent deuren naar nieuwe kansen\, vriendschappen en groei. En vriendschappen op ons werk zorgen dat we gezonder en gelukkiger zijn.😊\n\n\n \n\n\nOm uiteenlopende redenen is een fijne baan niet voor iedereen vanzelfsprekend. Het doel van Job Action Day is dan ook om op te roepen tot solidariteit en ondersteuning\, en samen een wereld te creëren waarin iedereen de kans krijgt om zijn of haar volledige potentieel te benutten. Broodnodig\, want weet je dat slechts 65% van de Nederlanders via hun netwerk een positieve referentie weten op te halen?\n\n\n \n\n\nDaar staan onze oren wel naar bij La Red: benut je potentieel en dat van jouw mensen maximaal\, onder andere door de \n\n\ninzet van sociaal kapitaal. We helpen je graag op weg!\n\n\nEn lees onze blog over het vinden van werk via je netwerk voor meer inspiratie.
URL:https://www.lared.nl/event/job-action-day/
END:VEVENT
END:VCALENDAR