BEGIN:VCALENDAR
VERSION:2.0
PRODID:-//La Red - ECPv6.15.20//NONSGML v1.0//EN
CALSCALE:GREGORIAN
METHOD:PUBLISH
X-ORIGINAL-URL:https://www.lared.nl
X-WR-CALDESC:Evenementen voor La Red
REFRESH-INTERVAL;VALUE=DURATION:PT1H
X-Robots-Tag:noindex
X-PUBLISHED-TTL:PT1H
BEGIN:VTIMEZONE
TZID:Europe/Helsinki
BEGIN:DAYLIGHT
TZOFFSETFROM:+0200
TZOFFSETTO:+0300
TZNAME:EEST
DTSTART:20220327T010000
END:DAYLIGHT
BEGIN:STANDARD
TZOFFSETFROM:+0300
TZOFFSETTO:+0200
TZNAME:EET
DTSTART:20221030T010000
END:STANDARD
BEGIN:DAYLIGHT
TZOFFSETFROM:+0200
TZOFFSETTO:+0300
TZNAME:EEST
DTSTART:20230326T010000
END:DAYLIGHT
BEGIN:STANDARD
TZOFFSETFROM:+0300
TZOFFSETTO:+0200
TZNAME:EET
DTSTART:20231029T010000
END:STANDARD
BEGIN:DAYLIGHT
TZOFFSETFROM:+0200
TZOFFSETTO:+0300
TZNAME:EEST
DTSTART:20240331T010000
END:DAYLIGHT
BEGIN:STANDARD
TZOFFSETFROM:+0300
TZOFFSETTO:+0200
TZNAME:EET
DTSTART:20241027T010000
END:STANDARD
BEGIN:DAYLIGHT
TZOFFSETFROM:+0200
TZOFFSETTO:+0300
TZNAME:EEST
DTSTART:20250330T010000
END:DAYLIGHT
BEGIN:STANDARD
TZOFFSETFROM:+0300
TZOFFSETTO:+0200
TZNAME:EET
DTSTART:20251026T010000
END:STANDARD
END:VTIMEZONE
BEGIN:VEVENT
DTSTART;TZID=Europe/Helsinki:20240213T120000
DTEND;TZID=Europe/Helsinki:20240213T140000
DTSTAMP:20260421T161525
CREATED:20240122T224010Z
LAST-MODIFIED:20240122T224010Z
UID:16600-1707825600-1707832800@www.lared.nl
SUMMARY:Partner Speedmeet - Werkwaardig
DESCRIPTION:Werkwaardig is hét werkgeversnetwerk in de omgeving Delft/Rijswijk dat zich inzet voor een inclusieve arbeidsmarkt. Met Valentijnsdag voor de deur vonden ze het hoog tijd voor een ‘Speedmeet’. En La Red is erbij! \nDe afgelopen tijd hebben zich veel nieuwe partners aangesloten bij Werkwaardig. Tijdens de eerste kennisbijeenkomst van 2024 is er volop gelegenheid om de andere partners te ontmoeten door middel van de ‘Speedmeet’. Miriam Notten is eigenaar van Werkwaardig partner La Red. Ze sluit aan om meer inzicht te geven in relaties en het belang van netwerkend werken om professionele en persoonlijke doelen te realiseren. \nDatum: dinsdag 13 februari \nTijd: 12:00 – 14:00 \nLocatie: Werkse! (Gantel 23 in Den Hoorn) \nAanmelden kan via een e-mail naar info@werkwaardig.nu \n 
URL:https://www.lared.nl/event/partner-speedmeet-werkwaardig/
LOCATION:Werkse!\, Gantel 23\, Den Hoorn
CATEGORIES:Bijeenkomsten
END:VEVENT
BEGIN:VEVENT
DTSTART;VALUE=DATE:20231231
DTEND;VALUE=DATE:20240102
DTSTAMP:20260421T161525
CREATED:20231030T152743Z
LAST-MODIFIED:20231030T152828Z
UID:16430-1703980800-1704153599@www.lared.nl
SUMMARY:Oud & Nieuw
DESCRIPTION:De laatste dag van het jaar en dus kunnen we niet achterblijven met een korte terugblik op 2023. Want wat was het een bijzonder jaar voor La Red! Met als hoogtepunt uiteraard de uitreiking van de eerste ‘Give and Take Trophy’ en de viering van ons 20-jarig jubileum. \nBekijk La Red in 20 jaar \nWat was het geweldig om de winnaars in het zonnetje te kunnen zetten én stil te kunnen staan bij 20 jaar La Red. Een jaar waarin we als team keihard zijn blijven werken om ons aanbod uit te breiden en groei van kennis in het veld van netwerken en network science te versterken. We kijken ernaar uit om in het nieuwe jaar nog meer paden te verkennen\, nieuwe verbindingen te leggen en samen te werken aan spannende projecten. \nNieuwjaarsborrels gaan grotendeels op dezelfde manier als (netwerk) bijeenkomsten. Op de valreep nog een paar fijne tips voor succesvolle ontmoetingen. \nVoor 2024 wensen we je een jaar gevuld met mooie kansen\, warme contacten\, waardevolle connecties en krachtig sociaal kapitaal. Bedankt voor een prachtig jaar! \n 
URL:https://www.lared.nl/event/oud-nieuw/
END:VEVENT
BEGIN:VEVENT
DTSTART;VALUE=DATE:20231225
DTEND;VALUE=DATE:20231227
DTSTAMP:20260421T161525
CREATED:20231030T152333Z
LAST-MODIFIED:20231030T152404Z
UID:16427-1703462400-1703635199@www.lared.nl
SUMMARY:Kerst
DESCRIPTION:Het einde van het jaar is traditiegetrouw het moment waarop een groot aantal eindejaarsborrels en kerstborrels worden georganiseerd. Allemaal momenten waarop we actief ons netwerk kunnen benutten en inzetten\, maar ook nieuwe netwerkrelaties kunnen opbouwen. Maar welk netwerkpodium kiezen we eigenlijk? \nAlvast een krachtige tip: neem iemand mee naar een bijeenkomst waar je zelf toch al heen gaat. Je hoeft niet alleen te gaan en hebt tijdens de bijeenkomst een hele goede reden om iedereen aan te spreken: precies\, om je introducé voor te stellen. \nKerstborrels\, sociaal kapitaal en welk netwerkpodium te kiezen: we schreven er een blog over \nZo zie je maar\, dat het vooral in december en januari erg makkelijk is om invulling te geven aan het gezegde ‘voor mij een kleine moeite\, voor de ander een groot plezier’. Geniet van de bijeenkomsten die komen gaan en heerlijke dagen gewenst! \n 
URL:https://www.lared.nl/event/kerst/
END:VEVENT
END:VCALENDAR