BEGIN:VCALENDAR
VERSION:2.0
PRODID:-//La Red - ECPv6.15.20//NONSGML v1.0//EN
CALSCALE:GREGORIAN
METHOD:PUBLISH
X-ORIGINAL-URL:https://www.lared.nl
X-WR-CALDESC:Evenementen voor La Red
REFRESH-INTERVAL;VALUE=DURATION:PT1H
X-Robots-Tag:noindex
X-PUBLISHED-TTL:PT1H
BEGIN:VTIMEZONE
TZID:Europe/Helsinki
BEGIN:DAYLIGHT
TZOFFSETFROM:+0200
TZOFFSETTO:+0300
TZNAME:EEST
DTSTART:20230326T010000
END:DAYLIGHT
BEGIN:STANDARD
TZOFFSETFROM:+0300
TZOFFSETTO:+0200
TZNAME:EET
DTSTART:20231029T010000
END:STANDARD
BEGIN:DAYLIGHT
TZOFFSETFROM:+0200
TZOFFSETTO:+0300
TZNAME:EEST
DTSTART:20240331T010000
END:DAYLIGHT
BEGIN:STANDARD
TZOFFSETFROM:+0300
TZOFFSETTO:+0200
TZNAME:EET
DTSTART:20241027T010000
END:STANDARD
BEGIN:DAYLIGHT
TZOFFSETFROM:+0200
TZOFFSETTO:+0300
TZNAME:EEST
DTSTART:20250330T010000
END:DAYLIGHT
BEGIN:STANDARD
TZOFFSETFROM:+0300
TZOFFSETTO:+0200
TZNAME:EET
DTSTART:20251026T010000
END:STANDARD
END:VTIMEZONE
BEGIN:VEVENT
DTSTART;TZID=Europe/Helsinki:20240202T123000
DTEND;TZID=Europe/Helsinki:20240202T173000
DTSTAMP:20260420T190739
CREATED:20240122T220431Z
LAST-MODIFIED:20240122T220431Z
UID:16596-1706877000-1706895000@www.lared.nl
SUMMARY:Alumnidag Public Affairs 2024
DESCRIPTION:De uitslag van de afgelopen verkiezingen galmt nog na in Den Haag. Hoe gaat de nieuwe Haagse werkelijkheid eruitzien? En wat betekent dat voor al die spelers van het politiek spel\, zoals lobbyisten? \n‘Lobbyen in een nieuwe Haagse werkelijkheid’ is het thema van de jaarlijkse Alumnidag van de Universiteit van Leiden. Onze eigen Miriam Notten opent het programma met een lunch en een leuke activiteit om kennis met elkaar te maken. \nNa de lunch volgen er panels en gesprekken met onder andere spindoctors Raymond Mens Julia Wouters van NPO Radio 1 én zijn er actieve deelsessies gepland met bekende docenten van de PA-leergang\, zoals Erik van Venetië die in gesprek gaat met Birkitta Kortes. Als vanouds bestaat de afsluiting uit een netwerkborrel. \nDatum: vrijdag 2 februari \nTijd: 12:30 – 17:30 \nKosten: € 28\,50 per persoon inclusief lunch \nHeb je een leergang Politiek & Bestuur gevolgd? Meld je dan aan: https://www.universiteitleiden.nl/agenda/2024/02/alumnidag-public-affairs
URL:https://www.lared.nl/event/alumnidag-public-affairs-2024/
LOCATION:Centre for Professional Learning\, Den Haag\, Nederland
CATEGORIES:Bijeenkomsten
END:VEVENT
END:VCALENDAR