BEGIN:VCALENDAR
VERSION:2.0
PRODID:-//La Red - ECPv6.15.20//NONSGML v1.0//EN
CALSCALE:GREGORIAN
METHOD:PUBLISH
X-ORIGINAL-URL:https://www.lared.nl
X-WR-CALDESC:Evenementen voor La Red
REFRESH-INTERVAL;VALUE=DURATION:PT1H
X-Robots-Tag:noindex
X-PUBLISHED-TTL:PT1H
BEGIN:VTIMEZONE
TZID:Europe/Helsinki
BEGIN:DAYLIGHT
TZOFFSETFROM:+0200
TZOFFSETTO:+0300
TZNAME:EEST
DTSTART:20210328T010000
END:DAYLIGHT
BEGIN:STANDARD
TZOFFSETFROM:+0300
TZOFFSETTO:+0200
TZNAME:EET
DTSTART:20211031T010000
END:STANDARD
BEGIN:DAYLIGHT
TZOFFSETFROM:+0200
TZOFFSETTO:+0300
TZNAME:EEST
DTSTART:20220327T010000
END:DAYLIGHT
BEGIN:STANDARD
TZOFFSETFROM:+0300
TZOFFSETTO:+0200
TZNAME:EET
DTSTART:20221030T010000
END:STANDARD
BEGIN:DAYLIGHT
TZOFFSETFROM:+0200
TZOFFSETTO:+0300
TZNAME:EEST
DTSTART:20230326T010000
END:DAYLIGHT
BEGIN:STANDARD
TZOFFSETFROM:+0300
TZOFFSETTO:+0200
TZNAME:EET
DTSTART:20231029T010000
END:STANDARD
END:VTIMEZONE
BEGIN:VEVENT
DTSTART;TZID=Europe/Helsinki:20220924T170000
DTEND;TZID=Europe/Helsinki:20220930T170000
DTSTAMP:20260420T190444
CREATED:20200821T074423Z
LAST-MODIFIED:20220726T122450Z
UID:13156-1664038800-1664557200@www.lared.nl
SUMMARY:Ga mee naar Sardinië!
DESCRIPTION:GA MEE NAAR SARDINIË!\nEen unieke kans! Netwerkcoaching door La Red in een back-to-basic retreat in Sardinië. Leer je netwerk optimaal te benutten!\nWanneer? We gaan elk voorjaar en elk najaar. \nBen jij erbij? Klik hier voor meer informatie en om je aan te melden.
URL:https://www.lared.nl/event/ga-mee-naar-sardinie/
LOCATION:Sardinië
ATTACH;FMTTYPE=image/png:https://www.lared.nl/wp-content/uploads/2018/09/images-Sardiene4.png
ORGANIZER;CN="La Red":MAILTO:larednetwerk@lared.nl
END:VEVENT
END:VCALENDAR