BEGIN:VCALENDAR
VERSION:2.0
PRODID:-//La Red - ECPv6.15.20//NONSGML v1.0//EN
CALSCALE:GREGORIAN
METHOD:PUBLISH
X-WR-CALNAME:La Red
X-ORIGINAL-URL:https://www.lared.nl
X-WR-CALDESC:Evenementen voor La Red
REFRESH-INTERVAL;VALUE=DURATION:PT1H
X-Robots-Tag:noindex
X-PUBLISHED-TTL:PT1H
BEGIN:VTIMEZONE
TZID:Europe/Helsinki
BEGIN:DAYLIGHT
TZOFFSETFROM:+0200
TZOFFSETTO:+0300
TZNAME:EEST
DTSTART:20220327T010000
END:DAYLIGHT
BEGIN:STANDARD
TZOFFSETFROM:+0300
TZOFFSETTO:+0200
TZNAME:EET
DTSTART:20221030T010000
END:STANDARD
BEGIN:DAYLIGHT
TZOFFSETFROM:+0200
TZOFFSETTO:+0300
TZNAME:EEST
DTSTART:20230326T010000
END:DAYLIGHT
BEGIN:STANDARD
TZOFFSETFROM:+0300
TZOFFSETTO:+0200
TZNAME:EET
DTSTART:20231029T010000
END:STANDARD
BEGIN:DAYLIGHT
TZOFFSETFROM:+0200
TZOFFSETTO:+0300
TZNAME:EEST
DTSTART:20240331T010000
END:DAYLIGHT
BEGIN:STANDARD
TZOFFSETFROM:+0300
TZOFFSETTO:+0200
TZNAME:EET
DTSTART:20241027T010000
END:STANDARD
END:VTIMEZONE
BEGIN:VEVENT
DTSTART;VALUE=DATE:20231006
DTEND;VALUE=DATE:20231007
DTSTAMP:20260421T194418
CREATED:20231002T182336Z
LAST-MODIFIED:20231002T182336Z
UID:16310-1696550400-1696636799@www.lared.nl
SUMMARY:World Smile Day
DESCRIPTION:Smile! Het is vandaag de eerste vrijdag van oktober en dus World Smile Day. Ooit bedacht door Harvey Ball\, de bedenker van de iconische gele smiley face en erop gericht om vriendelijk te zijn voor elkaar en iemand anders te laten lachen 😊 \nWant waar je mee omgaat\, daar word je mee besmet! Kennis\, gewoontes\, emoties en bijvoorbeeld blijheid zijn besmettelijk en reizen door onze netwerken. Onze keuzes worden beïnvloed door de mensen die we kennen en ook hun netwerken. Nu denk je misschien dat het echt alleen maar om vrienden gaat. Maar dit gaat om alle mensen die jij kent of die je via via kent: familie\, vrienden\, kennissen\, buren\, leraren. \nDus vertel die goede grap of geef een mooi compliment en maak vandaag iemand aan het lachen! Daarmee besmet je je hele netwerk tot in de 3de orde.
URL:https://www.lared.nl/event/world-smile-day/
END:VEVENT
END:VCALENDAR