BEGIN:VCALENDAR
VERSION:2.0
PRODID:-//La Red - ECPv6.15.20//NONSGML v1.0//EN
CALSCALE:GREGORIAN
METHOD:PUBLISH
X-WR-CALNAME:La Red
X-ORIGINAL-URL:https://www.lared.nl
X-WR-CALDESC:Evenementen voor La Red
REFRESH-INTERVAL;VALUE=DURATION:PT1H
X-Robots-Tag:noindex
X-PUBLISHED-TTL:PT1H
BEGIN:VTIMEZONE
TZID:Europe/Helsinki
BEGIN:DAYLIGHT
TZOFFSETFROM:+0200
TZOFFSETTO:+0300
TZNAME:EEST
DTSTART:20200329T010000
END:DAYLIGHT
BEGIN:STANDARD
TZOFFSETFROM:+0300
TZOFFSETTO:+0200
TZNAME:EET
DTSTART:20201025T010000
END:STANDARD
BEGIN:DAYLIGHT
TZOFFSETFROM:+0200
TZOFFSETTO:+0300
TZNAME:EEST
DTSTART:20210328T010000
END:DAYLIGHT
BEGIN:STANDARD
TZOFFSETFROM:+0300
TZOFFSETTO:+0200
TZNAME:EET
DTSTART:20211031T010000
END:STANDARD
BEGIN:DAYLIGHT
TZOFFSETFROM:+0200
TZOFFSETTO:+0300
TZNAME:EEST
DTSTART:20220327T010000
END:DAYLIGHT
BEGIN:STANDARD
TZOFFSETFROM:+0300
TZOFFSETTO:+0200
TZNAME:EET
DTSTART:20221030T010000
END:STANDARD
BEGIN:DAYLIGHT
TZOFFSETFROM:+0200
TZOFFSETTO:+0300
TZNAME:EEST
DTSTART:20230326T010000
END:DAYLIGHT
BEGIN:STANDARD
TZOFFSETFROM:+0300
TZOFFSETTO:+0200
TZNAME:EET
DTSTART:20231029T010000
END:STANDARD
BEGIN:DAYLIGHT
TZOFFSETFROM:+0200
TZOFFSETTO:+0300
TZNAME:EEST
DTSTART:20240331T010000
END:DAYLIGHT
BEGIN:STANDARD
TZOFFSETFROM:+0300
TZOFFSETTO:+0200
TZNAME:EET
DTSTART:20241027T010000
END:STANDARD
END:VTIMEZONE
BEGIN:VEVENT
DTSTART;TZID=Europe/Helsinki:20230406T120000
DTEND;TZID=Europe/Helsinki:20230406T183000
DTSTAMP:20260420T190516
CREATED:20230223T121901Z
LAST-MODIFIED:20230223T121901Z
UID:15256-1680782400-1680805800@www.lared.nl
SUMMARY:FMN Connect XL - Make your network work (for you)
DESCRIPTION:Make your network work (for you) \nAltijd al willen weten wat de getallen 600\, 150\, 6\, 3 en 2 met jouw netwerk te maken hebben? Deelnemers aan de workshop tijdens FMN Connect XL komen daar achter! \nTijdens deze workshop krijg je de must-knows aangereikt over netwerkend werken en ga je daarmee aan de slag. Leer jouw netwerk en dat van anderen activeren. Want dát gaan we dus doen; niet alleen jouw eigen netwerk komt in beweging\, maar ook het netwerk van alle bezoekers. Over sociale innovatie gesproken: jouw sociaal kapitaal is via deze workshop het toegangskaartje naar allerlei nieuwe mogelijkheden\, ook een stageplaats of een leuke baan. Doe je mee? \nDe dynamische workshop wordt geleid door Karin Groenenboom – de Bruijn\, trainer bij La Red en expert op het gebied van netwerkend werken. Zij weet met humor en praktische voorbeelden vrijwel iedereen letterlijk en figuurlijk in beweging te krijgen. Voel je vrij om alles over netwerken te vragen wat je altijd al wilde weten\, want Karin luistert zonder oordeel en je gaat beslist met handige tips de deur uit. Oh en aan beweging sowieso geen gebrek\, want daar zorgt haar hondje Ollie wel voor. \nDe voorjaarseditie van FMN Connect XL is op donderdag 6 april en heeft als thema `Sociale innovatie`. Het evenement is toegankelijk voor leden en niet-leden van FMN. Wil je erbij zijn? Reserveer dan hier je ticket.
URL:https://www.lared.nl/event/fmn-connect-xl-make-your-network-work-for-you/
CATEGORIES:Workshops
END:VEVENT
BEGIN:VEVENT
DTSTART;TZID=Europe/Helsinki:20220924T170000
DTEND;TZID=Europe/Helsinki:20220930T170000
DTSTAMP:20260420T190516
CREATED:20200821T074423Z
LAST-MODIFIED:20220726T122450Z
UID:13156-1664038800-1664557200@www.lared.nl
SUMMARY:Ga mee naar Sardinië!
DESCRIPTION:GA MEE NAAR SARDINIË!\nEen unieke kans! Netwerkcoaching door La Red in een back-to-basic retreat in Sardinië. Leer je netwerk optimaal te benutten!\nWanneer? We gaan elk voorjaar en elk najaar. \nBen jij erbij? Klik hier voor meer informatie en om je aan te melden.
URL:https://www.lared.nl/event/ga-mee-naar-sardinie/
LOCATION:Sardinië
ATTACH;FMTTYPE=image/png:https://www.lared.nl/wp-content/uploads/2018/09/images-Sardiene4.png
ORGANIZER;CN="La Red":MAILTO:larednetwerk@lared.nl
END:VEVENT
BEGIN:VEVENT
DTSTART;VALUE=DATE:20210428
DTEND;VALUE=DATE:20210429
DTSTAMP:20260420T190516
CREATED:20200504T193219Z
LAST-MODIFIED:20200504T193219Z
UID:12887-1619568000-1619654399@www.lared.nl
SUMMARY:Pay it Forward Day
DESCRIPTION:Met La Red zijn we aangesloten bij de mondiale beweging Pay-It-Forward. Iedereen wordt uitgenodigd om goede daden te doen voor andere mensen. En natuurlijk laten we het als La Red niet bij die ene jaarlijkse dag\, maar nodigen we onze Vrienden uit om er een rode draad van te maken in hun (werkzame) leven. \nDe kern van deze beweging is om iets voor iemand anders te doen zonder er iets voor terug te verwachten en ook zonder dat iemand er misschien om vraagt. Wat wel het idee is om de mensen waar je wat voor doet ook bewust te maken van deze netwerkende methode en ze te vragen om op hun beurt ook weer iets voor iemand anders te doen. \nBij La Red doen we niets anders\, elke dag weer en helpen anderen zodat we bouwen aan een gelukkig en gezond netwerk van vrijgevige mensen. Lees meer over #PayitFoward.
URL:https://www.lared.nl/event/pay-it-forward-day/
CATEGORIES:La Red is erbij...
END:VEVENT
END:VCALENDAR